BEGIN:VCALENDAR
VERSION:2.0
PRODID:-//camberxcaster.com - ECPv6.15.20//NONSGML v1.0//EN
CALSCALE:GREGORIAN
METHOD:PUBLISH
X-WR-CALNAME:camberxcaster.com
X-ORIGINAL-URL:https://camberxcaster.com
X-WR-CALDESC:Events for camberxcaster.com
REFRESH-INTERVAL;VALUE=DURATION:PT1H
X-Robots-Tag:noindex
X-PUBLISHED-TTL:PT1H
BEGIN:VTIMEZONE
TZID:America/Los_Angeles
BEGIN:DAYLIGHT
TZOFFSETFROM:-0800
TZOFFSETTO:-0700
TZNAME:PDT
DTSTART:20250309T100000
END:DAYLIGHT
BEGIN:STANDARD
TZOFFSETFROM:-0700
TZOFFSETTO:-0800
TZNAME:PST
DTSTART:20251102T090000
END:STANDARD
BEGIN:DAYLIGHT
TZOFFSETFROM:-0800
TZOFFSETTO:-0700
TZNAME:PDT
DTSTART:20260308T100000
END:DAYLIGHT
BEGIN:STANDARD
TZOFFSETFROM:-0700
TZOFFSETTO:-0800
TZNAME:PST
DTSTART:20261101T090000
END:STANDARD
BEGIN:DAYLIGHT
TZOFFSETFROM:-0800
TZOFFSETTO:-0700
TZNAME:PDT
DTSTART:20270314T100000
END:DAYLIGHT
BEGIN:STANDARD
TZOFFSETFROM:-0700
TZOFFSETTO:-0800
TZNAME:PST
DTSTART:20271107T090000
END:STANDARD
END:VTIMEZONE
BEGIN:VEVENT
DTSTART;TZID=America/Los_Angeles:20260213T190000
DTEND;TZID=America/Los_Angeles:20260213T220000
DTSTAMP:20260425T174630
CREATED:20260208T213727Z
LAST-MODIFIED:20260208T213727Z
UID:20974-1771009200-1771020000@camberxcaster.com
SUMMARY:Galentines on the Grid
DESCRIPTION:Join us for our first galentines day event! Hosted by the lovely women of the Camber & Caster esports team. This is an evening of crafting\, snacks\, sips and racing for all love lovelies out there. Includes free DIY Hot Wheels keychain\, light snacks and sim racing sessions! All are welcome to join! BYOB no corkage fee! \nMake your very own custom Hot Wheels keychain in our crafting session where we provide the tools and supplies\, and you provide the creativity. Snack and sip the night away from all of our in house offerings\, but also feel free to bring any food or beverages you like! There will be movies playing in the theater\, gal approved of course! And get some seat time in on of our professional racing simulators\, with free demos and how to from one of our CXC eSports drivers! This will be a fun night of all things girlie\, so come in\, get crafty and race your hearts out! LIMITED SPACE\, GET YOUR TICKET NOW! Just $20\, and as always free for CXC Drivers and their plus one! \n\n           Download QR 🡻
URL:https://camberxcaster.com/event/galentines-on-the-grid/
LOCATION:Camber and Caster Oceanside\, 3520 Seagate Way\, Suite 150\, Oceanside\, 92056\, United States
ATTACH;FMTTYPE=image/jpeg:https://camberxcaster.com/wp-content/uploads/2026/02/CXC_GALENTINES_2026_POST-copy.jpg
END:VEVENT
END:VCALENDAR